DSET ^radar.dat
TITLE Doppler
OPTIONS sequential
UNDEF -9999
XDEF 100 LINEAR -156.840469 7.20072016E-02
YDEF 101 LINEAR 10.9335718 7.20072016E-02
ZDEF 37 LINEAR 0 500.000000
TDEF 1 LINEAR 22:37Z21AUG2018 6hr
VARS 7
u 37 99 u-component
v 37 99 v-component
w 37 99 w-component
R 37 99 Reflectivity
vor 37 99 vorticity
div 37 99 divergence
vmflux 37 99 vertical mass flux
ENDVARS
