DSET ^radar.dat
TITLE Doppler
OPTIONS sequential
UNDEF -9999
XDEF 98 LINEAR -95.51045 0.045004502
YDEF 98 LINEAR 17.43178 0.045004502
ZDEF 37 LINEAR 0 500.
TDEF 1 LINEAR 18:42Z16SEP2010 6hr
VARS 7
u 37 99 u-component
v 37 99 v-component
w 37 99 w-component
R 37 99 Reflectivity
vor 37 99 vorticity
div 37 99 divergence
vmflux 37 99 vertical mass flux
ENDVARS
