DSET ^radar.dat
TITLE Doppler
OPTIONS sequential
UNDEF -9999
XDEF 106 LINEAR -79.58823 0.045004502
YDEF 105 LINEAR 14.29478 0.045004502
ZDEF 37 LINEAR 0 500.
TDEF 1 LINEAR 12:00Z13SEP2010 6hr
VARS 7
u 37 99 u-component
v 37 99 v-component
w 37 99 w-component
R 37 99 Reflectivity
vor 37 99 vorticity
div 37 99 divergence
vmflux 37 99 vertical mass flux
ENDVARS
