DSET ^radar.dat
TITLE Doppler
OPTIONS sequential byteswapped
UNDEF -9999
XDEF 44 LINEAR -70.705315 0.045004502
YDEF 44 LINEAR 19.434647 0.045004502
ZDEF 37 LINEAR 0 500.
TDEF 1 LINEAR 12:59Z24SEP2008 6hr
VARS 7
u 37 99 u-component
v 37 99 v-component
w 37 99 w-component
R 37 99 Reflectivity
vor 37 99 vorticity
div 37 99 divergence
vmflux 37 99 vertical mass flux
ENDVARS
